{
 "version": 1.0,
 "tileBundlesPath": "./tile",
 "tileInfo": {
  "spatialReference": {
   "wkt": "PROJCS[\"bjlocal\",GEOGCS[\"GCS_Beijing_1954\",DATUM[\"D_Beijing_1954\",SPHEROID[\"Krasovsky_1940\",6378245.0,298.3]],PRIMEM[\"Greenwich\",0.0],UNIT[\"Degree\",0.0174532925199433]],PROJECTION[\"Gauss_Kruger\"],PARAMETER[\"False_Easting\",500000.0],PARAMETER[\"False_Northing\",300000.0],PARAMETER[\"Central_Meridian\",116.3502518],PARAMETER[\"Scale_Factor\",1.0],PARAMETER[\"Latitude_Of_Origin\",39.86576603],UNIT[\"Meter\",1.0]]"
  },
  "origin": {
   "x": 419603,
   "y": 433027
  },
  "rows": 256,
  "cols": 256,
  "dpi": 96,
  "lods": [
   {
    "level": 0,
    "resolution": 270.93387520108377,
    "scale": 1024000
   },
   {
    "level": 1,
    "resolution": 135.46693760054188,
    "scale": 512000
   },
   {
    "level": 2,
    "resolution": 67.73346880027094,
    "scale": 256000
   },
   {
    "level": 3,
    "resolution": 33.86673440013547,
    "scale": 128000
   },
   {
    "level": 4,
    "resolution": 16.933367200067735,
    "scale": 64000
   },
   {
    "level": 5,
    "resolution": 8.466683600033868,
    "scale": 32000
   },
   {
    "level": 6,
    "resolution": 4.233341800016934,
    "scale": 16000
   },
   {
    "level": 7,
    "resolution": 2.116670900008467,
    "scale": 8000
   },
   {
    "level": 8,
    "resolution": 1.0583354500042335,
    "scale": 4000
   },
   {
    "level": 9,
    "resolution": 0.5291677250021167,
    "scale": 2000
   },
   {
    "level": 10,
    "resolution": 0.26458386250105836,
    "scale": 1000
   },
   {
    "level": 11,
    "resolution": 0.13229193125052918,
    "scale": 500
   }
  ],
  "format": "LERC",
  "compressionQuality": 0,
  "bandCount": 1,
  "lercError": 0,
  "storageFormat": "esriMapCacheStorageModeCompactV2",
  "packetSize": 128
 },
 "storageInfo": {
  "packetSize": 128,
  "storageFormat": "esriMapCacheStorageModeCompactV2"
 },
 "tileImageInfo": {
  "format": "LERC",
  "compressionQuality": 0,
  "bandCount": 1,
  "lercError": 0.05
 },
 "name": "tzyx",
 "minScale": 1024000,
 "maxScale": 500,
 "minLOD": 0,
 "spatialReference": {
  "wkt": "PROJCS[\"bjlocal\",GEOGCS[\"GCS_Beijing_1954\",DATUM[\"D_Beijing_1954\",SPHEROID[\"Krasovsky_1940\",6378245.0,298.3]],PRIMEM[\"Greenwich\",0.0],UNIT[\"Degree\",0.0174532925199433]],PROJECTION[\"Gauss_Kruger\"],PARAMETER[\"False_Easting\",500000.0],PARAMETER[\"False_Northing\",300000.0],PARAMETER[\"Central_Meridian\",116.3502518],PARAMETER[\"Scale_Factor\",1.0],PARAMETER[\"Latitude_Of_Origin\",39.86576603],UNIT[\"Meter\",1.0]]"
 },
 "units": "esriMeters",
 "serviceDescription": "",
 "resampling": true,
 "exportTilesAllowed": false,
 "initialExtent": {
  "xmin": 510316.3710100754,
  "ymin": 264441.4388705444,
  "xmax": 553180.2796545593,
  "ymax": 322189.38040809415,
  "spatialReference": {
   "wkt": "PROJCS[\"bjlocal\",GEOGCS[\"GCS_Beijing_1954\",DATUM[\"D_Beijing_1954\",SPHEROID[\"Krasovsky_1940\",6378245.0,298.3]],PRIMEM[\"Greenwich\",0.0],UNIT[\"Degree\",0.0174532925199433]],PROJECTION[\"Gauss_Kruger\"],PARAMETER[\"False_Easting\",500000.0],PARAMETER[\"False_Northing\",300000.0],PARAMETER[\"Central_Meridian\",116.3502518],PARAMETER[\"Scale_Factor\",1.0],PARAMETER[\"Latitude_Of_Origin\",39.86576603],UNIT[\"Meter\",1.0]]"
  }
 },
 "fullExtent": {
  "xmin": 510316.3710100754,
  "ymin": 264441.4388705444,
  "xmax": 553180.2796545593,
  "ymax": 322189.38040809415,
  "spatialReference": {
   "wkt": "PROJCS[\"bjlocal\",GEOGCS[\"GCS_Beijing_1954\",DATUM[\"D_Beijing_1954\",SPHEROID[\"Krasovsky_1940\",6378245.0,298.3]],PRIMEM[\"Greenwich\",0.0],UNIT[\"Degree\",0.0174532925199433]],PROJECTION[\"Gauss_Kruger\"],PARAMETER[\"False_Easting\",500000.0],PARAMETER[\"False_Northing\",300000.0],PARAMETER[\"Central_Meridian\",116.3502518],PARAMETER[\"Scale_Factor\",1.0],PARAMETER[\"Latitude_Of_Origin\",39.86576603],UNIT[\"Meter\",1.0]]"
  }
 },
 "maxLOD": 6,
 "currentVersion": 11.1,
 "mapName": "tzyx",
 "singleFusedMapCache": true,
 "type": "ImageServer",
 "capabilities": "Image,TilesOnly,Tilemap",
 "datasetFormat": "Cache/LERC",
 "compressionType": "LERC",
 "serviceDataType": "esriImageServiceDataTypeElevation",
 "cacheType": "Elevation",
 "blockWidth": 256,
 "blockHeight": 256,
 "bandCount": 1,
 "pixelSizeX": 0.13229193125052918,
 "pixelSizeY": 0.13229193125052918,
 "minPixelSize": 0.13229193125052918,
 "maxPixelSize": 270.93387520108377
}
