View In:
GeoScene JavaScript
GeoScene Online Map Viewer
GeoScene Earth
Service Description: fujianDEM
Name: fujianDEM
Description:
Single Fused Map Cache: false
Extent:
XMin: 115.8462506258511
YMin: 23.56625054642791
XMax: 120.72291741060326
YMax: 28.31791732815327
Spatial Reference: 4326
(4326)
Initial Extent:
XMin: 115.8462506258511
YMin: 23.56625054642791
XMax: 120.72291741060326
YMax: 28.31791732815327
Spatial Reference: 4326
(4326)
Full Extent:
XMin: 115.8462506258511
YMin: 23.56625054642791
XMax: 120.72291741060326
YMax: 28.31791732815327
Spatial Reference: 4326
(4326)
Pixel Size X: 8.333333535119891E-4
Pixel Size Y: 8.333333535119891E-4
Band Count: 1
Pixel Type: S16
RasterFunction Infos: {"rasterFunctionInfos": [{
"name": "None",
"description": "",
"help": ""
}]}
Mensuration Capabilities: Basic
Has Histograms: false
Has Colormap: false
Has Multi Dimensions : false
Rendering Rule:
Min Scale: 7.395719094896367E7
Max Scale: 288895.27714438934
Min LOD: 2
Max LOD: 10
Copyright Text:
Service Data Type: esriImageServiceDataTypeGeneric
Min Values: N/A
Max Values: N/A
Mean Values: N/A
Standard Deviation Values: N/A
Object ID Field:
Fields:
None
Default Mosaic Method: Center
Allowed Mosaic Methods:
SortField:
SortValue: null
Mosaic Operator: First
Default Compression Quality: 75
Default Resampling Method: Bilinear
Max Record Count: null
Max Image Height: 4100
Max Image Width: 15000
Max Download Image Count: null
Max Mosaic Image Count: null
Allow Raster Function: true
Allow Copy: true
Allow Analysis: true
Allow Compute TiePoints: false
Supports Statistics: false
Supports Advanced Queries: false
Use StandardizedQueries: true
Raster Type Infos:
Name: Raster Dataset
Description: Supports all GeoScene Raster Datasets
Help:
Has Raster Attribute Table: false
Edit Fields Info: null
Ownership Based AccessControl For Rasters: null
Child Resources:
Info
Statistics
Key Properties
Legend
Raster Function Infos
Supported Operations:
Export Image
Identify
Measure
Compute Histograms
Compute Statistics Histograms
Get Samples
Compute Class Statistics
Query Boundary
Compute Pixel Location
Compute Angles
Validate
Project