{
 "currentVersion": 11.1,
 "serviceDescription": "u_Layer_v_Layer_tif",
 "name": "u_Layer_v_Layer_tif",
 "description": "",
 "extent": {
  "xmin": 73.44130749105425,
  "ymin": 10.155640206803128,
  "xmax": 135.09130749105424,
  "ymax": 53.565640206803124,
  "spatialReference": {
   "wkid": 4490,
   "latestWkid": 4490
  }
 },
 "initialExtent": {
  "xmin": 73.44130749105425,
  "ymin": 10.155640206803128,
  "xmax": 135.09130749105424,
  "ymax": 53.565640206803124,
  "spatialReference": {
   "wkid": 4490,
   "latestWkid": 4490
  }
 },
 "fullExtent": {
  "xmin": 73.44130749105425,
  "ymin": 10.155640206803128,
  "xmax": 135.09130749105424,
  "ymax": 53.565640206803124,
  "spatialReference": {
   "wkid": 4490,
   "latestWkid": 4490
  }
 },
 "sortableFields": "",
 "bandCount": 2,
 "pixelType": "F32",
 "minValues": [
  0,
  -90
 ],
 "maxValues": [
  46.010585784912,
  269.70767211914
 ],
 "meanValues": [
  7.9831927423079,
  62.139624206035
 ],
 "stdvValues": [
  5.8987958849939,
  99.30340532232
 ],
 "hasMultidimensions": false,
 "pixelSizeX": 0.009999999999999998,
 "pixelSizeY": 0.009999999999999998,
 "datasetFormat": "TIFF",
 "uncompressedSize": 214098120,
 "blockWidth": 128,
 "blockHeight": 128,
 "compressionType": "None",
 "bandNames": [
  "Vector-Magnitude",
  "Vector-Direction"
 ],
 "allowCopy": true,
 "allowAnalysis": true,
 "itemAccess": false,
 "noDataValue": 3.3999999521443642E38,
 "noDataValues": [
  3.3999999521443642E38,
  3.3999999521443642E38
 ],
 "minPixelSize": 0,
 "maxPixelSize": 0,
 "copyrightText": "",
 "serviceDataType": "esriImageServiceDataTypeVector-MagDir",
 "serviceSourceType": "esriImageServiceSourceTypeDataset",
 "objectIdField": "",
 "fields": [],
 "capabilities": "Image,Metadata,Mensuration",
 "defaultMosaicMethod": "Center",
 "allowedMosaicMethods": "",
 "sortField": "",
 "sortValue": null,
 "sortAscending": true,
 "mosaicOperator": "First",
 "defaultCompressionQuality": 75,
 "defaultResamplingMethod": "Bilinear",
 "maxImageHeight": 4100,
 "maxImageWidth": 15000,
 "allowRasterFunction": true,
 "rasterFunctionInfos": [
  {
   "name": "None",
   "description": "",
   "help": ""
  }
 ],
 "rasterTypeInfos": [
  {
   "name": "Raster Dataset",
   "description": "Supports all ArcGIS Raster Datasets",
   "help": ""
  }
 ],
 "mensurationCapabilities": "Basic",
 "hasHistograms": true,
 "hasColormap": false,
 "hasRasterAttributeTable": false,
 "minScale": 0,
 "maxScale": 0,
 "exportTilesAllowed": false,
 "supportsStatistics": false,
 "supportsAdvancedQueries": false,
 "editFieldsInfo": null,
 "ownershipBasedAccessControlForRasters": null,
 "allowComputeTiePoints": false,
 "useStandardizedQueries": true,
 "advancedQueryCapabilities": {
  "useStandardizedQueries": true,
  "supportsStatistics": false,
  "supportsOrderBy": false,
  "supportsDistinct": false,
  "supportsPagination": false
 },
 "spatialReference": {
  "wkid": 4490,
  "latestWkid": 4490
 }
}
