View In:
GeoScene JavaScript
GeoScene Online Map Viewer
GeoScene Earth
Service Description: hyimage
Name: hyimage
Description:
Single Fused Map Cache: false
Extent:
XMin: 1.2703574280930521E7
YMin: 3565141.2782462654
XMax: 1.2722960593679966E7
YMax: 3581784.1571181864
Spatial Reference: 102100
(3857)
Initial Extent:
XMin: 1.2703574280930521E7
YMin: 3565141.2782462654
XMax: 1.2722960593679966E7
YMax: 3581784.1571181864
Spatial Reference: 102100
(3857)
Full Extent:
XMin: 1.2703574280930521E7
YMin: 3565141.2782462654
XMax: 1.2722960593679966E7
YMax: 3581784.1571181864
Spatial Reference: 102100
(3857)
Pixel Size X: 1.859955171202671
Pixel Size Y: 1.8599551712026134
Band Count: 3
Pixel Type: U8
RasterFunction Infos: {"rasterFunctionInfos": [{
"name": "None",
"description": "",
"help": ""
}]}
Mensuration Capabilities: Basic
Has Histograms: true
Has Colormap: false
Has Multi Dimensions : false
Rendering Rule:
Min Scale: 0
Max Scale: 0
Copyright Text:
Service Data Type: esriImageServiceDataTypeRGB
Min Values: 1, 1, 1
Max Values: 255, 255, 255
Mean Values: 107.22474424048019, 112.46266647654845, 100.49907136793763
Standard Deviation Values: 34.72782757835721, 27.91578614995476, 22.16741377971745
Object ID Field:
Fields:
None
Default Mosaic Method: Center
Allowed Mosaic Methods:
SortField:
SortValue: null
Mosaic Operator: First
Default Compression Quality: 75
Default Resampling Method: Bilinear
Max Record Count: null
Max Image Height: 4100
Max Image Width: 15000
Max Download Image Count: null
Max Mosaic Image Count: null
Allow Raster Function: true
Allow Copy: true
Allow Analysis: true
Allow Compute TiePoints: false
Supports Statistics: false
Supports Advanced Queries: false
Use StandardizedQueries: true
Raster Type Infos:
Name: Raster Dataset
Description: Supports all GeoScene Raster Datasets
Help:
Has Raster Attribute Table: false
Edit Fields Info: null
Ownership Based AccessControl For Rasters: null
Child Resources:
Info
Histograms
Statistics
Key Properties
Legend
Raster Function Infos
Supported Operations:
Export Image
Identify
Measure
Compute Histograms
Compute Statistics Histograms
Get Samples
Compute Class Statistics
Query Boundary
Compute Pixel Location
Compute Angles
Validate
Project