View In:
GeoScene JavaScript
GeoScene Online Map Viewer
GeoScene Earth
Service Description:
Name: tzyx
Description: N/A
Single Fused Map Cache: true
Tile Info:
- Height: 256
- Width: 256
- DPI: 96
-
Levels of Detail: 12
- Format: LERC
- Compression Quality: 0.0
- LERC Error: 0.0
- Origin: X: 419603.0
Y: 433027.0
- Spatial Reference: PROJCS["bjlocal",GEOGCS["GCS_Beijing_1954",DATUM["D_Beijing_1954",SPHEROID["Krasovsky_1940",6378245.0,298.3]],PRIMEM["Greenwich",0.0],UNIT["Degree",0.0174532925199433]],PROJECTION["Gauss_Kruger"],PARAMETER["False_Easting",500000.0],PARAMETER["False_Northing",300000.0],PARAMETER["Central_Meridian",116.3502518],PARAMETER["Scale_Factor",1.0],PARAMETER["Latitude_Of_Origin",39.86576603],UNIT["Meter",1.0]]
Storage Info:
- Storage Format: esriMapCacheStorageModeCompactV2
- Packet Size: 128
Extent:
XMin: 510316.3710100754
YMin: 264441.4388705444
XMax: 553180.2796545593
YMax: 322189.38040809415
Spatial Reference: PROJCS["bjlocal",GEOGCS["GCS_Beijing_1954",DATUM["D_Beijing_1954",SPHEROID["Krasovsky_1940",6378245.0,298.3]],PRIMEM["Greenwich",0.0],UNIT["Degree",0.0174532925199433]],PROJECTION["Gauss_Kruger"],PARAMETER["False_Easting",500000.0],PARAMETER["False_Northing",300000.0],PARAMETER["Central_Meridian",116.3502518],PARAMETER["Scale_Factor",1.0],PARAMETER["Latitude_Of_Origin",39.86576603],UNIT["Meter",1.0]]
Initial Extent:
XMin: 510316.3710100754
YMin: 264441.4388705444
XMax: 553180.2796545593
YMax: 322189.38040809415
Spatial Reference: PROJCS["bjlocal",GEOGCS["GCS_Beijing_1954",DATUM["D_Beijing_1954",SPHEROID["Krasovsky_1940",6378245.0,298.3]],PRIMEM["Greenwich",0.0],UNIT["Degree",0.0174532925199433]],PROJECTION["Gauss_Kruger"],PARAMETER["False_Easting",500000.0],PARAMETER["False_Northing",300000.0],PARAMETER["Central_Meridian",116.3502518],PARAMETER["Scale_Factor",1.0],PARAMETER["Latitude_Of_Origin",39.86576603],UNIT["Meter",1.0]]
Full Extent:
XMin: 510316.3710100754
YMin: 264441.4388705444
XMax: 553180.2796545593
YMax: 322189.38040809415
Spatial Reference: PROJCS["bjlocal",GEOGCS["GCS_Beijing_1954",DATUM["D_Beijing_1954",SPHEROID["Krasovsky_1940",6378245.0,298.3]],PRIMEM["Greenwich",0.0],UNIT["Degree",0.0174532925199433]],PROJECTION["Gauss_Kruger"],PARAMETER["False_Easting",500000.0],PARAMETER["False_Northing",300000.0],PARAMETER["Central_Meridian",116.3502518],PARAMETER["Scale_Factor",1.0],PARAMETER["Latitude_Of_Origin",39.86576603],UNIT["Meter",1.0]]
Pixel Size X: 0.13229193125052918
Pixel Size Y: 0.13229193125052918
Band Count: 1
Pixel Type:
RasterFunction Infos: {"rasterFunctionInfos": null}
Mensuration Capabilities:
Has Histograms: false
Has Colormap: false
Has Multi Dimensions : false
Rendering Rule:
Min Scale: 1024000
Max Scale: 500
Min LOD: 0
Max LOD: 6
Copyright Text: N/A
Service Data Type: esriImageServiceDataTypeElevation
Min Values: N/A
Max Values: N/A
Mean Values: N/A
Standard Deviation Values: N/A
Object ID Field: N/A
Fields:
None
Default Mosaic Method: N/A
Allowed Mosaic Methods: N/A
SortField: N/A
SortValue: N/A
Mosaic Operator: N/A
Default Compression Quality: null
Default Resampling Method: N/A
Max Record Count: null
Max Image Height: null
Max Image Width: null
Max Download Image Count: null
Max Mosaic Image Count: null
Allow Raster Function: null
Allow Copy: null
Allow Analysis: null
Allow Compute TiePoints: false
Supports Statistics: false
Supports Advanced Queries: false
Use StandardizedQueries: false
Raster Type Infos:
None
Has Raster Attribute Table: null
Edit Fields Info: N/A
Ownership Based AccessControl For Rasters: N/A
Child Resources:
Info