View In:
GeoScene JavaScript
GeoScene Online Map Viewer
GeoScene Earth
Service Description: u_Layer_v_Layer_tif
Name: u_Layer_v_Layer_tif
Description:
Single Fused Map Cache: false
Extent:
XMin: 73.44130749105425
YMin: 10.155640206803128
XMax: 135.09130749105424
YMax: 53.565640206803124
Spatial Reference: 4490
(4490)
Initial Extent:
XMin: 73.44130749105425
YMin: 10.155640206803128
XMax: 135.09130749105424
YMax: 53.565640206803124
Spatial Reference: 4490
(4490)
Full Extent:
XMin: 73.44130749105425
YMin: 10.155640206803128
XMax: 135.09130749105424
YMax: 53.565640206803124
Spatial Reference: 4490
(4490)
Pixel Size X: 0.009999999999999998
Pixel Size Y: 0.009999999999999998
Band Count: 2
Pixel Type: F32
RasterFunction Infos: {"rasterFunctionInfos": [{
"name": "None",
"description": "",
"help": ""
}]}
Mensuration Capabilities: Basic
Has Histograms: true
Has Colormap: false
Has Multi Dimensions : false
Rendering Rule:
Min Scale: 0
Max Scale: 0
Copyright Text:
Service Data Type: esriImageServiceDataTypeVector-MagDir
Min Values: 0, -90
Max Values: 46.010585784912, 269.70767211914
Mean Values: 7.9831927423079, 62.139624206035
Standard Deviation Values: 5.8987958849939, 99.30340532232
Object ID Field:
Fields:
None
Default Mosaic Method: Center
Allowed Mosaic Methods:
SortField:
SortValue: null
Mosaic Operator: First
Default Compression Quality: 75
Default Resampling Method: Bilinear
Max Record Count: null
Max Image Height: 4100
Max Image Width: 15000
Max Download Image Count: null
Max Mosaic Image Count: null
Allow Raster Function: true
Allow Copy: true
Allow Analysis: true
Allow Compute TiePoints: false
Supports Statistics: false
Supports Advanced Queries: false
Use StandardizedQueries: true
Raster Type Infos:
Name: Raster Dataset
Description: Supports all GeoScene Raster Datasets
Help:
Has Raster Attribute Table: false
Edit Fields Info: null
Ownership Based AccessControl For Rasters: null
Child Resources:
Info
Histograms
Statistics
Key Properties
Legend
Raster Function Infos
Supported Operations:
Export Image
Identify
Measure
Compute Histograms
Compute Statistics Histograms
Get Samples
Compute Class Statistics
Query Boundary
Compute Pixel Location
Compute Angles
Validate
Project